BEGIN:VCALENDAR
VERSION:2.0
PRODID:icalendar-ruby
CALSCALE:GREGORIAN
METHOD:PUBLISH
BEGIN:VEVENT
DTSTAMP:20260422T225559Z
UID:578-1714992@emmanuelvernon.ca
DTSTART:20260915T013000Z
DTEND:20260915T033000Z
CLASS:PUBLIC
CREATED:20260422T144101
DESCRIPTION:Celebrate Recovery (CR) is a biblically-based\, recovery progra
 m that addresses our Hurts\, Hang-ups\, and Habits using a 12-step app
 roach based on the Beatitudes from the book of Matthew.  CR leaders\, und
 erstand your struggles\, as they have experienced freedom from addictive a
 nd dysfunctional patterns in their own lives.  They have been trained to 
 guide people through the 12 Steps/8 Principles\, and to provide a safe env
 ironment for accountability and building authentic relationships. \nCR me
 ets every Monday night at 6:30 pm downstairs in the Youth Room at Emmanuel
  Baptist Church.  Everyone is welcome! \nClick here for informational br
 ochure\nClick here to link to Celebrate Recovery Canada website
LAST-MODIFIED:20260422T144101
LOCATION:Emmanuel Baptist Church - downstairs Youth Room
SUMMARY:CELEBRATE RECOVERY
URL;VALUE=URI:https://www.emmanuelvernon.ca/events/celebrate-recovery--578/
 2026-09-14
ATTACH;FILENAME=Celebrate-Recovery.png;FMTTYPE=image/png:https://dq5pwpg1q8
 ru0.cloudfront.net/2024/08/14/21/27/41/bdf391b3-6b95-4913-bc12-1a9908a01b9
 2/Celebrate-Recovery.png
END:VEVENT
END:VCALENDAR
