BEGIN:VCALENDAR
VERSION:2.0
PRODID:icalendar-ruby
CALSCALE:GREGORIAN
METHOD:PUBLISH
BEGIN:VEVENT
DTSTAMP:20260422T121157Z
UID:666-1708474@emmanuelvernon.ca
DTSTART:20260812T180000Z
DTEND:20260812T220000Z
CLASS:PUBLIC
CREATED:20260416T122939
DESCRIPTION:more details to come
LAST-MODIFIED:20260416T122939
LOCATION:Reiswig Regional Park - Lake Country
SUMMARY:55+ SUMMER PICNIC
URL;VALUE=URI:https://www.emmanuelvernon.ca/events/55-summer-picnic--666/20
 26-08-12
ATTACH;FILENAME=55-Reiswig-Summer-Picnic.png;FMTTYPE=image/png:https://dq5p
 wpg1q8ru0.cloudfront.net/2026/04/16/19/29/38/3baec706-1989-4a4f-ad4f-27429
 42104d8/55-Reiswig-Summer-Picnic.png
END:VEVENT
END:VCALENDAR
