BEGIN:VCALENDAR
VERSION:2.0
PRODID:icalendar-ruby
CALSCALE:GREGORIAN
METHOD:PUBLISH
BEGIN:VEVENT
DTSTAMP:20260422T122050Z
UID:665-1708471@emmanuelvernon.ca
DTSTART:20260708T180000Z
DTEND:20260708T220000Z
CLASS:PUBLIC
CREATED:20260416T122332
DESCRIPTION:more details to come
LAST-MODIFIED:20260416T122332
LOCATION:Paddlewheel Park - Vernon
SUMMARY:55+ SUMMER PICNIC
URL;VALUE=URI:https://www.emmanuelvernon.ca/events/55-summer-picnic--665/20
 26-07-08
ATTACH;FILENAME=55-Paddlewheel-Summer-Picnic.png;FMTTYPE=image/png:https://
 dq5pwpg1q8ru0.cloudfront.net/2026/04/16/19/23/31/9a970d28-2977-48c6-90be-3
 c7e89ef07be/55-Paddlewheel-Summer-Picnic.png
END:VEVENT
END:VCALENDAR
